BEGIN:VCALENDAR
VERSION:2.0
PRODID:-//eventon.com NONSGML v1.0//EN
CALSCALE:GREGORIAN
METHOD:PUBLISH
BEGIN:VEVENT
UID:69e74cfcf27b9
DTSTAMP:20260421T101004Z
DTSTART:20180614
DTEND:20180615
LOCATION:Sala de Exposicións do Kiosco Alfonso
SUMMARY:Alessandro Grassani
DESCRIPTION:Migrantes medioambientais: A derradeira ilusión. Unha historia
  de múltiples capítulos na que se presenta unha das principais\,  e comú
 nmente ignoradas\,  consecuencias do cambio climático sobre as poblacións
  humanas: A migración medioambiental do rural á urbe. En 2008\,  e por pr
 imeira vez na historia\,  hai máis densidade de poboación nas cidades[..]
 \nhttps://coruna2018.redeacampa.org/gl/events/alessandro-grassani-2/
URL:https://coruna2018.redeacampa.org/gl/events/alessandro-grassani-2/
END:VEVENT
END:VCALENDAR