BEGIN:VCALENDAR
VERSION:2.0
PRODID:-//eventon.com NONSGML v1.0//EN
CALSCALE:GREGORIAN
METHOD:PUBLISH
BEGIN:VEVENT
UID:69e7385c6cc5a
DTSTAMP:20260421T084204Z
DTSTART:20180614
DTEND:20180615
LOCATION:Sala de Exposicións do Kiosco Alfonso
SUMMARY:Daesung Lee
DESCRIPTION: Na beira dunha illa que desaparece. A illa de Ghoramara está
  situada nunha rexión do delta en Bengala Occidental. Debido ao dramático
  aumento do nivel do mar como resultado dos efectos do cambio climático\, 
  desde os anos 60 as costas desta illa están a ser perpetuamente arrastrad
 as. E desde os[..]\nhttps://coruna2018.redeacampa.org/gl/events/daesung-lee
 /
URL:https://coruna2018.redeacampa.org/gl/events/daesung-lee/
END:VEVENT
END:VCALENDAR