BEGIN:VCALENDAR
VERSION:2.0
PRODID:-//eventon.com NONSGML v1.0//EN
CALSCALE:GREGORIAN
METHOD:PUBLISH
BEGIN:VEVENT
UID:69e6120c49824
DTSTAMP:20260420T114620Z
DTSTART:20180615T150000Z
DTEND:20180615T160000Z
LOCATION:Carpa central Xardins de Mendez Nuñez\,  A Coruña
SUMMARY:Obradoiro - Do barraco de lona preta ao alimento sustentabel
DESCRIPTION:Marcos Sorrentino Marcos Sorrentino Marcos Sorrentino é docent
 e da Universidade de São Paulo\,  campus de Piracicaba/Departamento de Cie
 ncias Forestais\,  coordina o Laboratorio de Educación e Política Ambient
 al. Participa desde os anos setenta de varias asociacións\,  colectivos e 
 redes de ambientalistas e de educación ambiental. Foi director de EA no Mi
 nisterio[..]\nhttps://coruna2018.redeacampa.org/gl/events/obradoiro-do-barr
 aco-de-lona-preta-ao-alimento-sustentabel/
URL:https://coruna2018.redeacampa.org/gl/events/obradoiro-do-barraco-de-lona-preta-ao-alimento-sustentabel/
END:VEVENT
END:VCALENDAR