BEGIN:VCALENDAR
VERSION:2.0
PRODID:-//eventon.com NONSGML v1.0//EN
CALSCALE:GREGORIAN
METHOD:PUBLISH
BEGIN:VEVENT
UID:69e4c6a4990e2
DTSTAMP:20260419T121220Z
DTSTART:20180615T170000Z
DTEND:20180615T180000Z
LOCATION:Carpa central Xardins de Mendez Nuñez\,  A Coruña
SUMMARY:Encontro con
DESCRIPTION:Daesung Lee Daesung Lee é un fotógrafo que vive en París\,  
 Francia. A través de dous proxectos desenvolveu enfoques conceptuais no á
 mbito documental\,  usando a fotografía como medio para comunicar a súa p
 ropia perspectiva ao mundo. As súas obras foron expostas en numerosos fest
 ivais internacionais como Getxo Photo 2016 en[..]\nhttps://coruna2018.redea
 campa.org/gl/events/proxeccion-fotos-comentadas/
URL:https://coruna2018.redeacampa.org/gl/events/proxeccion-fotos-comentadas/
END:VEVENT
END:VCALENDAR