BEGIN:VCALENDAR
VERSION:2.0
PRODID:-//eventon.com NONSGML v1.0//EN
CALSCALE:GREGORIAN
METHOD:PUBLISH
BEGIN:VEVENT
UID:69e6120d43824
DTSTAMP:20260420T114621Z
DTSTART:20180616T103000Z
DTEND:20180616T120000Z
LOCATION:Carpa central Xardins de Mendez Nuñez\,  A Coruña
SUMMARY:Dereito ao refuxio
DESCRIPTION:Dereito ao refuxio\nhttps://coruna2018.redeacampa.org/gl/events
 /sen-animo-de-nome/
URL:https://coruna2018.redeacampa.org/gl/events/sen-animo-de-nome/
END:VEVENT
END:VCALENDAR