BEGIN:VCALENDAR
VERSION:2.0
PRODID:-//eventon.com NONSGML v1.0//EN
CALSCALE:GREGORIAN
METHOD:PUBLISH
BEGIN:VEVENT
UID:69e738bab6c3b
DTSTAMP:20260421T084338Z
DTSTART:20180614
DTEND:20180615
LOCATION:Sala exposiciones Salvador de Madariaga Durán Loriga 10\,  A Coruña
SUMMARY:Everyday Climate Change
DESCRIPTION:Exposición del Colectivo EVERYDAY de la agencia PHOTO OP Fotó
 grafos James Whitlow Delano Georgina Goodwin Luc Forsyth Matilde Gattoni Es
 ther Horvath Ed Kashi Franck Vogel Rodrigo Baleia Nina Berman Michael Robin
 son Chavez J.B. Russell Luc Forsyth Gideon Mendel Elisabetta Zavoli Paolo P
 atrizi Sean Gallagher Jeremy Sutton-Hibbert\nhttps://coruna2018.redeacampa.
 org/es/events/james-whitlow-ecc/
URL:https://coruna2018.redeacampa.org/es/events/james-whitlow-ecc/
END:VEVENT
END:VCALENDAR