BEGIN:VCALENDAR
VERSION:2.0
PRODID:-//eventon.com NONSGML v1.0//EN
CALSCALE:GREGORIAN
METHOD:PUBLISH
BEGIN:VEVENT
UID:69e8a0ada2644
DTSTAMP:20260422T101925Z
DTSTART:20180616T103000Z
DTEND:20180616T120000Z
LOCATION:Carpa central Xardins de Mendez Nuñez\,  A Coruña
SUMMARY:Derecho a refugio
DESCRIPTION:/wp-content/uploads/certamenpoesiamicrorrelatoacampa.mp3\nhttps
 ://coruna2018.redeacampa.org/es/events/sen-animo-de-nome/
URL:https://coruna2018.redeacampa.org/es/events/sen-animo-de-nome/
END:VEVENT
END:VCALENDAR