BEGIN:VCALENDAR
VERSION:2.0
PRODID:-//eventon.com NONSGML v1.0//EN
CALSCALE:GREGORIAN
METHOD:PUBLISH
BEGIN:VEVENT
UID:69e738f4b354f
DTSTAMP:20260421T084436Z
DTSTART:20180615T160000Z
DTEND:20180615T215000Z
LOCATION:Alfonso Kiosk Hall
SUMMARY:Futuristic archaeology - Vanishing island
DESCRIPTION:On the shore of a vanishing island. Ghoramara island is located
  on a delta region in West Bengal. Due to the dramatic increase in sea leve
 l\,  resulting from the e ects climate change. Since the 1960â€™s\,  the sh
 ores of this island are being perpetually washed away. And since the 1980â€
 ™s\, [..]\nhttps://coruna2018.redeacampa.org/en/events/futuristic-archaeolo
 gy-vanishing-island/
URL:https://coruna2018.redeacampa.org/en/events/futuristic-archaeology-vanishing-island/
END:VEVENT
END:VCALENDAR