BEGIN:VCALENDAR
VERSION:2.0
PRODID:-//eventon.com NONSGML v1.0//EN
CALSCALE:GREGORIAN
METHOD:PUBLISH
BEGIN:VEVENT
UID:69e6122b72eb1
DTSTAMP:20260420T114651Z
DTSTART:20180616T173000Z
DTEND:20180616T215000Z
LOCATION:Exterior gardens of Méndez Núñez Xardíns de Méndez Núñez\,  A Coruña
SUMMARY:Human Symbol of Peace
DESCRIPTION:Human Symbol of Peace Organize Mundo Sin Guerras Event on faceb
 ook.\nhttps://coruna2018.redeacampa.org/en/events/mundo-sin-guerras/
URL:https://coruna2018.redeacampa.org/en/events/mundo-sin-guerras/
END:VEVENT
END:VCALENDAR