BEGIN:VCALENDAR
VERSION:2.0
PRODID:-//eventon.com NONSGML v1.0//EN
CALSCALE:GREGORIAN
METHOD:PUBLISH
BEGIN:VEVENT
UID:69e5fc82511da
DTSTAMP:20260420T101426Z
DTSTART:20180615T150000Z
DTEND:20180615T160000Z
LOCATION:Central Tent
SUMMARY:Workshop - From the canvas hut to sustainable food
DESCRIPTION:Marcos Sorrentino Marcos Sorrentino is a professor at the Unive
 rsity of São Paulo\,  Piracicaba Campus/Department of Forestry Sciences\, 
  and coordinates the Laboratory of Environmental Education and Policy. Sinc
 e the 1970s\,  he has participated in various associations\,  collectives a
 nd networks of environmentalists and environmental education. He was direct
 or of EA at[..]\nhttps://coruna2018.redeacampa.org/en/events/workshop-from-
 the-canvas-hut-to-sustainable-food/
URL:https://coruna2018.redeacampa.org/en/events/workshop-from-the-canvas-hut-to-sustainable-food/
END:VEVENT
END:VCALENDAR