BEGIN:VCALENDAR
VERSION:2.0
PRODID:-//eventon.com NONSGML v1.0//EN
CALSCALE:GREGORIAN
METHOD:PUBLISH
BEGIN:VEVENT
UID:69e6122b7404d
DTSTAMP:20260420T114651Z
DTSTART:20180616T103000Z
DTEND:20180616T120000Z
LOCATION:Central Tent
SUMMARY:Right to refuge
DESCRIPTION:Right to refuge\nhttps://coruna2018.redeacampa.org/en/events/po
 etic-jam/
URL:https://coruna2018.redeacampa.org/en/events/poetic-jam/
END:VEVENT
END:VCALENDAR